BEGIN:VCALENDAR
VERSION:2.0
PRODID:-//Sulfuric Acid Today - ECPv6.15.11//NONSGML v1.0//EN
CALSCALE:GREGORIAN
METHOD:PUBLISH
X-ORIGINAL-URL:https://h2so4today.com
X-WR-CALDESC:Events for Sulfuric Acid Today
REFRESH-INTERVAL;VALUE=DURATION:PT1H
X-Robots-Tag:noindex
X-PUBLISHED-TTL:PT1H
BEGIN:VTIMEZONE
TZID:UTC
BEGIN:STANDARD
TZOFFSETFROM:+0000
TZOFFSETTO:+0000
TZNAME:UTC
DTSTART:20240101T000000
END:STANDARD
END:VTIMEZONE
BEGIN:VEVENT
DTSTART;VALUE=DATE:20250821
DTEND;VALUE=DATE:20250823
DTSTAMP:20260421T114854
CREATED:20250218T194941Z
LAST-MODIFIED:20250218T224533Z
UID:2857-1755734400-1755907199@h2so4today.com
SUMMARY:Round Table 2025 for Smelters\, Roasters & Refineries
DESCRIPTION:Holtec will host their 2025 Round Table Meeting for Smelters\, Roasters and Refineries from August 21-22\, 2025 in Viña del Mar\, Chile at the Hotel Novotel. \nOperators and maintenance experts\, technology providers\, smelter- roaster- and refinery owners\, consultants and specialized engineering firms will discuss the latest developments in technology\, projects\, operations\, and markets. We will welcome delegates from many of the Spanish speaking countries in Central and South America\, and the rest of the world\, o present projects\, and to discuss operational and maintenance topics during this two-day seminar. Meanwhile\, technology providers will have a unique opportunity to talk directly with their clients and present their latest developments and products. \nRegistration is complimentary for operators. Deadline for registration: August 1\, 2025 \nFor more information\, please visit the event’s website: \nhttps://www.mesaredondachile.com/en/welcome-to-holtec-round-table-2025
URL:https://h2so4today.com/event/round-table-2025-for-smelters-roasters-refineries
LOCATION:Hotel Novotel\, Calle 6 Norte\, 745\, 2520000\, Viña Del Mar\, Chile
END:VEVENT
END:VCALENDAR