BEGIN:VCALENDAR
VERSION:2.0
PRODID:-//Sulfuric Acid Today - ECPv6.15.11//NONSGML v1.0//EN
CALSCALE:GREGORIAN
METHOD:PUBLISH
X-ORIGINAL-URL:https://h2so4today.com
X-WR-CALDESC:Events for Sulfuric Acid Today
REFRESH-INTERVAL;VALUE=DURATION:PT1H
X-Robots-Tag:noindex
X-PUBLISHED-TTL:PT1H
BEGIN:VTIMEZONE
TZID:UTC
BEGIN:STANDARD
TZOFFSETFROM:+0000
TZOFFSETTO:+0000
TZNAME:UTC
DTSTART:20240101T000000
END:STANDARD
END:VTIMEZONE
BEGIN:VEVENT
DTSTART;VALUE=DATE:20250606
DTEND;VALUE=DATE:20250608
DTSTAMP:20260421T144123
CREATED:20241022T171352Z
LAST-MODIFIED:20250218T213539Z
UID:2845-1749168000-1749340799@h2so4today.com
SUMMARY:International Phosphate Fertilizer & Sulfuric Acid Technology Conference
DESCRIPTION:48TH ANNUAL INTERNATIONAL PHOSPHATE FERTILIZER & SULFURIC ACID TECHNOLOGY CONFERENCE \nTradeWinds Resort\, St. Petersburg Beach\, Florida \nJune 6-7\, 2025 \nEach year for the last 47 years\, members of the AIChE Central Florida Section and colleagues from all over the world have gathered to share their ideas concerning Chemical Process Technology\, specifically the production of Phosphoric Acid\, Phosphate Fertilizers\, Sulfuric Acid and other Chemical Process Industry Topics. The Convention provides ample excuse for a relaxing getaway with friends and family\, good food\, and a lot of fun! Hope to see you at St. Petersburg 2025. \nMembers of the AIChE\, Fellow Chemical Engineers\, Friends and Families: \nWe would like to invite you to attend our annual Convention\, hosted by the Central Florida Section of the AIChE. This year’s convention\, our 48th will be at a New Location the TradeWinds Resort on St Petersburg Beach\, will be held on Friday\, June 6th and Saturday\, June 7th. \nThis year we have several Friday potential workshops on various topics including our Bi-Annual PE Laws\, Rules\, and Ethic Workshop. You can also earn up to 8 PDH for attending both Friday and Saturday Sessions. To obtain PDH certification for conference sessions\, you must attend the full session of the section for which you need credit. You must also supply your P.E. number on or before Friday\, June 6th\, 2025 and have your attendance verified by proctors. \nAs more arrangements are finalized\, we will publish them on this site. \nIf you have any other questions or would like more information regarding the Convention\, please contact convention chair Michelle Navar at vicechair@aiche-cf.org  or Section Chair Robert Andrew at chair@aiche-cf.org. Visit the event’s website: https://aiche-cf.org/Clearwater_Conference
URL:https://h2so4today.com/event/48th-annual-international-phosphate-fertilizer-sulfuric-acid-technology-conference
LOCATION:TradeWinds Resort\, St. Petersburg Beach\, Florida\, 5500 Gulf Blvd\, St. Petersburg Beach\, 33706\, United States
ORGANIZER;CN="AIChE":MAILTO: vicechair@aiche-cf.org
END:VEVENT
END:VCALENDAR