BEGIN:VCALENDAR
VERSION:2.0
PRODID:-//Sulfuric Acid Today - ECPv6.15.11//NONSGML v1.0//EN
CALSCALE:GREGORIAN
METHOD:PUBLISH
X-ORIGINAL-URL:https://h2so4today.com
X-WR-CALDESC:Events for Sulfuric Acid Today
REFRESH-INTERVAL;VALUE=DURATION:PT1H
X-Robots-Tag:noindex
X-PUBLISHED-TTL:PT1H
BEGIN:VTIMEZONE
TZID:UTC
BEGIN:STANDARD
TZOFFSETFROM:+0000
TZOFFSETTO:+0000
TZNAME:UTC
DTSTART:20230101T000000
END:STANDARD
END:VTIMEZONE
BEGIN:VEVENT
DTSTART;TZID=UTC:20240901T080000
DTEND;TZID=UTC:20240905T170000
DTSTAMP:20260422T021051
CREATED:20240627T182436Z
LAST-MODIFIED:20240726T023905Z
UID:2522-1725177600-1725555600@h2so4today.com
SUMMARY:XIV Round Table of Sulfuric Acid Plants
DESCRIPTION:Holtec’s Round Table for 2024\, XIV Round Table for Sulfuric Acid Plants\, will take place September 1-5 in Puerto Varas\, Chile. \nPlant operators and maintenance experts\, technology providers\, consultants and specialized engineering firms will discuss the latest developments in markets\, technology\, projects\, operations\, and environment. \nDelegates from many of the countries in Central and South America\, as usual\, but also from Africa\, Asia\, Europe\, and North America for them to present their projects\, and discuss operational and maintenance topics during this four-day seminar. \nMeanwhile\, technology providers will have a unique opportunity to talk directly with customers and present their new products\, technologies\, and developments. \nFor more information\, visit the event’s website: https://mesaredondachile.com/en/holtec-round-table-2024-welcome
URL:https://h2so4today.com/event/xiv-round-table-of-sulfuric-acid-plants
LOCATION:Hotel Dreams\, Puerto Varas\, Chile
ATTACH;FMTTYPE=image/jpeg:https://h2so4today.com/wp-content/uploads/2024/07/SulfuricSlider1-1140x456-1-dark.jpg
END:VEVENT
END:VCALENDAR